BEGIN:VCALENDAR
VERSION:2.0
PRODID:-//Forest Stewards Guild - ECPv6.11.0.1//NONSGML v1.0//EN
CALSCALE:GREGORIAN
METHOD:PUBLISH
X-WR-CALNAME:Forest Stewards Guild
X-ORIGINAL-URL:https://foreststewardsguild.org
X-WR-CALDESC:Events for Forest Stewards Guild
REFRESH-INTERVAL;VALUE=DURATION:PT1H
X-Robots-Tag:noindex
X-PUBLISHED-TTL:PT1H
BEGIN:VTIMEZONE
TZID:America/New_York
BEGIN:DAYLIGHT
TZOFFSETFROM:-0500
TZOFFSETTO:-0400
TZNAME:EDT
DTSTART:20250309T070000
END:DAYLIGHT
BEGIN:STANDARD
TZOFFSETFROM:-0400
TZOFFSETTO:-0500
TZNAME:EST
DTSTART:20251102T060000
END:STANDARD
END:VTIMEZONE
BEGIN:VEVENT
DTSTART;TZID=America/New_York:20250930T120000
DTEND;TZID=America/New_York:20250930T133000
DTSTAMP:20260422T030230
CREATED:20250909T182844Z
LAST-MODIFIED:20250916T194111Z
UID:11395-1759233600-1759239000@foreststewardsguild.org
SUMMARY:Forest Management Tools for Songbird Conservation - Webinar
DESCRIPTION:Register for this webinar \nTuesday\, September 30\, 2025\n12:00 – 1:30 p.m. ET \nJoin the Forest Stewards Guild and partners for an in-depth look at practical tools and strategies for managing forests to support healthy songbird populations. This 90-minute session will introduce concepts like connectivity and occupancy mapping\, demonstrate how these approaches can guide on-the-ground decisions\, and highlight conservation programs that align with bird-friendly forestry goals. Presenters will cover operational logistics\, from identifying sites and developing harvest plans to large-scale management planning and share real-world examples of successful projects. Participants will also explore hands-on management tools\, including connectivity and occupancy mapping resources\, a NRCS approved forest management plan template\, and bird friendly silviculture guide. \nThis event has been approved for 1 Category 1 continuing education credit by SAF. \nAgenda \n12:00  – 12:10: Welcome\, introductions\, & housekeeping \n12:10 – 12:20: Wildlands Network – What is connectivity? What is occupancy mapping? \n12:20 – 12:35: AMJV – Using occupancy mapping and connectivity as a management tool + working with local foresters \n12:35 – 12:50: NRCS – Available conservation programs\, bird ecology\, model program project example \n12:50 – 1:15: Aurora – Operational logistics (site ID\, harvest plan\, selling timber)\, largescale management planning \n1:15 – 1:25: Breakouts – Tools for Management: \n\nConnectivity mapping and bird occupancy\nManagement Plan Template\nSilviculture Guide\n\n1:25 – 1:30: Closing remarks
URL:https://foreststewardsguild.org/event/forest-management-tools-for-songbird-conservation-webinar/
CATEGORIES:Forestry for the Birds,Northeast,Southeast,Webinar
END:VEVENT
END:VCALENDAR