BEGIN:VCALENDAR
VERSION:2.0
PRODID:-//Forest Stewards Guild - ECPv6.11.0.1//NONSGML v1.0//EN
CALSCALE:GREGORIAN
METHOD:PUBLISH
X-WR-CALNAME:Forest Stewards Guild
X-ORIGINAL-URL:https://foreststewardsguild.org
X-WR-CALDESC:Events for Forest Stewards Guild
REFRESH-INTERVAL;VALUE=DURATION:PT1H
X-Robots-Tag:noindex
X-PUBLISHED-TTL:PT1H
BEGIN:VTIMEZONE
TZID:America/Los_Angeles
BEGIN:DAYLIGHT
TZOFFSETFROM:-0800
TZOFFSETTO:-0700
TZNAME:PDT
DTSTART:20240310T100000
END:DAYLIGHT
BEGIN:STANDARD
TZOFFSETFROM:-0700
TZOFFSETTO:-0800
TZNAME:PST
DTSTART:20241103T090000
END:STANDARD
END:VTIMEZONE
BEGIN:VEVENT
DTSTART;TZID=America/Los_Angeles:20240731T090000
DTEND;TZID=America/Los_Angeles:20240731T170000
DTSTAMP:20260423T075625
CREATED:20240507T195034Z
LAST-MODIFIED:20240729T165444Z
UID:9502-1722416400-1722445200@foreststewardsguild.org
SUMMARY:Pacific Northwest Guild Gathering – Hardwood Management in Western Oregon
DESCRIPTION:Register \nNote the meeting location change: \nMeet at Zena Forest Products\, 4550 Oak Grove Rd\, Salem\, OR 97371  \nEvent agenda for download \nSecure your spot today for a day of learning\, networking\, and forest stewardship. Join us in an exploration of hardwood management in the Pacific Northwest. This event will be a combination of engaging discussions and a field tour with Zena Forest Products. We’ll be exploring topics such as oak management and restoration\, ash management\, emerald ash borer\, and alder management. Don’t miss out on this opportunity to deepen your understanding of hardwood silviculture in the majestic landscapes of the Pacific Northwest region!    \nLunch will be provided at 1:00 p.m. Optional happy hour to follow (buy your own) at Gilgamesh Brewing  \nContinuing Education Credits are approved: 5.5 SAF and 3 Wildlife Society \nPlease bring: \n\nWater bottle\nSturdy footwear\nLong pants and long sleeves – we will be walking through areas that potentially contain poison oak\nSunscreen\nInsect repellent\n\nLogistics: \n\nWe will walk 1 – 2 miles on rocked roads. Poison oak is present\, so leaving the roads is optional.\nPlease be prepared to carpool from our meeting location to the field tour in the afternoon (this is a short drive).\n\nLodging: If you need lodging in the area before or after this event\, two options are below. This is not included in your event registration. \n\nDallas: Best Western Dallas Inn & Suites | Hotel Rooms\nSalem: Best Western Plus Mill Creek Inn
URL:https://foreststewardsguild.org/event/pacific-northwest-guild-gathering/
CATEGORIES:Guild Gathering,Pacific Northwest
END:VEVENT
END:VCALENDAR