BEGIN:VCALENDAR
VERSION:2.0
PRODID:-//Forest Stewards Guild - ECPv6.11.0.1//NONSGML v1.0//EN
CALSCALE:GREGORIAN
METHOD:PUBLISH
X-WR-CALNAME:Forest Stewards Guild
X-ORIGINAL-URL:https://foreststewardsguild.org
X-WR-CALDESC:Events for Forest Stewards Guild
REFRESH-INTERVAL;VALUE=DURATION:PT1H
X-Robots-Tag:noindex
X-PUBLISHED-TTL:PT1H
BEGIN:VTIMEZONE
TZID:America/Vancouver
BEGIN:DAYLIGHT
TZOFFSETFROM:-0800
TZOFFSETTO:-0700
TZNAME:PDT
DTSTART:20220313T100000
END:DAYLIGHT
BEGIN:STANDARD
TZOFFSETFROM:-0700
TZOFFSETTO:-0800
TZNAME:PST
DTSTART:20221106T090000
END:STANDARD
END:VTIMEZONE
BEGIN:VEVENT
DTSTART;TZID=America/Vancouver:20221115T120000
DTEND;TZID=America/Vancouver:20221115T130000
DTSTAMP:20260424T111105
CREATED:20221011T182938Z
LAST-MODIFIED:20221011T182938Z
UID:7278-1668513600-1668517200@foreststewardsguild.org
SUMMARY:Searching for Climate-Smarter Forestry in Oregon; Accelerating the Transition
DESCRIPTION:Register \nNovember 15\, 2022\nNoon\, Pacific Time \nWebinar \nPresenters: Peter Hayes and Dean Moberg \nCurrent and anticipated climatic conditions challenge us to work together to innovatively improve forest stewardship in ways that provide mitigation solutions while also increasing forest resilience. This webinar will explore the ways that 80 forest-connected Oregonians of diverse experiences came together in the forest to discuss and agree on the meaning\, practices\, and future of climate-smarter forestry. Participants dug deep in search of common ground\, with respect for inevitable uncommon ground\, in the course of four sessions. Participants roughed out a general plan for working together to accelerate the transition toward climate-smarter forestry. Join us as we share about work that is completed\, lessons learned\, and future plans people have committed to\, as well as discussion of relationships to related work underway across the country and world.
URL:https://foreststewardsguild.org/event/searching-for-climate-smarter-forestry-in-oregon-accelerating-the-transition/
CATEGORIES:Pacific Northwest,Webinar
END:VEVENT
END:VCALENDAR