BEGIN:VCALENDAR
VERSION:2.0
PRODID:-//Forest Stewards Guild - ECPv6.11.0.1//NONSGML v1.0//EN
CALSCALE:GREGORIAN
METHOD:PUBLISH
X-ORIGINAL-URL:https://foreststewardsguild.org
X-WR-CALDESC:Events for Forest Stewards Guild
REFRESH-INTERVAL;VALUE=DURATION:PT1H
X-Robots-Tag:noindex
X-PUBLISHED-TTL:PT1H
BEGIN:VTIMEZONE
TZID:America/New_York
BEGIN:DAYLIGHT
TZOFFSETFROM:-0500
TZOFFSETTO:-0400
TZNAME:EDT
DTSTART:20240310T070000
END:DAYLIGHT
BEGIN:STANDARD
TZOFFSETFROM:-0400
TZOFFSETTO:-0500
TZNAME:EST
DTSTART:20241103T060000
END:STANDARD
END:VTIMEZONE
BEGIN:VEVENT
DTSTART;TZID=America/New_York:20240110T103000
DTEND;TZID=America/New_York:20240110T113000
DTSTAMP:20260423T191200
CREATED:20240103T204112Z
LAST-MODIFIED:20240103T204112Z
UID:8958-1704882600-1704886200@foreststewardsguild.org
SUMMARY:Rooted in Research: Adapting to Extreme Weather Wild Cards - Adaptation Workbook
DESCRIPTION:Register for this or entire series \nWild Cards and the Adaptation Workbook – David Bengston (NRS) and Stephen Handler (NRS\, NIACS\, USDA Northern Forests Climate Hub) \nJanuary 10\, 2024\n10:30-11:30 a.m. Eastern Time \nApproved for 1 CFE credit through the Society of American Foresters and The Wildlife Society. \n  \nFull series summary: \nJoin the USDA Forest Service Northern Research Station\, USDA Northeast and Northern Forests Climate Hubs\, and the Northern Institute of Applied Climate Science (NIACS) for this webinar series. \nBetween floods\, severe storms\, and wildfires\, nearly everyone in North America has recently experienced an extreme weather event firsthand. Extreme events will become more commonplace as the climate continues to change. These events pose new challenges for forestry and natural resource management that may require new\, adaptive ways of thinking to address them. \nAn introductory presentation on “Wild Cards” in natural resource planning and NIACS’s Adaptation Workbook will set the stage for this mini-series and provide context for the following sessions. Thereafter\, we will explore three different types of extreme weather events\, showcasing the latest research on these topics and discussing relevant management implications.
URL:https://foreststewardsguild.org/event/rooted-in-research-adapting-to-extreme-weather-wild-cards-adaptation-workbook/
CATEGORIES:Northeast,Webinar
END:VEVENT
BEGIN:VEVENT
DTSTART;TZID=America/New_York:20240117T103000
DTEND;TZID=America/New_York:20240117T113000
DTSTAMP:20260423T191200
CREATED:20240103T204215Z
LAST-MODIFIED:20240103T204317Z
UID:8960-1705487400-1705491000@foreststewardsguild.org
SUMMARY:Rooted in Research: Adapting to Extreme Weather Wild Cards - Wildland Fire
DESCRIPTION:Register for this or entire series \nIncreased Incidence of Wildland Fire – Nicholas Skowronski (NRS) and Steven Miller (USDA Forest Service Eastern Region) \nJanuary 17\, 2024\n10:30-11:30 a.m. Eastern Time \nApproved for 1 CFE credit through the Society of American Foresters and The Wildlife Society. \n  \nFull series summary: \nJoin the USDA Forest Service Northern Research Station\, USDA Northeast and Northern Forests Climate Hubs\, and the Northern Institute of Applied Climate Science (NIACS) for this webinar series. \nBetween floods\, severe storms\, and wildfires\, nearly everyone in North America has recently experienced an extreme weather event firsthand. Extreme events will become more commonplace as the climate continues to change. These events pose new challenges for forestry and natural resource management that may require new\, adaptive ways of thinking to address them. \nAn introductory presentation on “Wild Cards” in natural resource planning and NIACS’s Adaptation Workbook will set the stage for this mini-series and provide context for the following sessions. Thereafter\, we will explore three different types of extreme weather events\, showcasing the latest research on these topics and discussing relevant management implications.
URL:https://foreststewardsguild.org/event/rooted-in-research-adapting-to-extreme-weather-wild-cards-wildland-fire/
CATEGORIES:Northeast,Webinar
END:VEVENT
BEGIN:VEVENT
DTSTART;TZID=America/New_York:20240124T103000
DTEND;TZID=America/New_York:20240124T113000
DTSTAMP:20260423T191200
CREATED:20240103T204437Z
LAST-MODIFIED:20240103T204528Z
UID:8963-1706092200-1706095800@foreststewardsguild.org
SUMMARY:Rooted in Research: Adapting to Extreme Weather Wild Cards - Extreme Precipitation
DESCRIPTION:Register for this or entire series \nExtreme Precipitation and Flooding – John Campbell (NRS) and Jarlath O’Neil-Dunne (NRS\, University of Vermont) \nJanuary 24\, 2024\n10:30-11:30 a.m. Eastern Time \nApproved for 1 CFE credit through the Society of American Foresters and The Wildlife Society. \n  \nFull series summary: \nJoin the USDA Forest Service Northern Research Station\, USDA Northeast and Northern Forests Climate Hubs\, and the Northern Institute of Applied Climate Science (NIACS) for this webinar series. \nBetween floods\, severe storms\, and wildfires\, nearly everyone in North America has recently experienced an extreme weather event firsthand. Extreme events will become more commonplace as the climate continues to change. These events pose new challenges for forestry and natural resource management that may require new\, adaptive ways of thinking to address them. \nAn introductory presentation on “Wild Cards” in natural resource planning and NIACS’s Adaptation Workbook will set the stage for this mini-series and provide context for the following sessions. Thereafter\, we will explore three different types of extreme weather events\, showcasing the latest research on these topics and discussing relevant management implications.
URL:https://foreststewardsguild.org/event/rooted-in-research-adapting-to-extreme-weather-wild-cards-extreme-precipitation/
CATEGORIES:Northeast,Webinar
END:VEVENT
BEGIN:VEVENT
DTSTART;TZID=America/New_York:20240131T103000
DTEND;TZID=America/New_York:20240131T113000
DTSTAMP:20260423T191200
CREATED:20240103T204710Z
LAST-MODIFIED:20240103T204740Z
UID:8966-1706697000-1706700600@foreststewardsguild.org
SUMMARY:Rooted in Research: Adapting to Extreme Weather Wild Cards - Ice Storms
DESCRIPTION:Register for this or entire series \nIce Storms in the Northeast – Lindsey Rustad (NRS\, USDA Northeast Climate Hub) and Lloyd Irland (The Irland Group) \nJanuary 31\, 2024\n10:30-11:30 a.m. Eastern Time \nApproved for 1 CFE credit through the Society of American Foresters and The Wildlife Society. \nFull series summary: \nJoin the USDA Forest Service Northern Research Station\, USDA Northeast and Northern Forests Climate Hubs\, and the Northern Institute of Applied Climate Science (NIACS) for this webinar series. \nBetween floods\, severe storms\, and wildfires\, nearly everyone in North America has recently experienced an extreme weather event firsthand. Extreme events will become more commonplace as the climate continues to change. These events pose new challenges for forestry and natural resource management that may require new\, adaptive ways of thinking to address them. \nAn introductory presentation on “Wild Cards” in natural resource planning and NIACS’s Adaptation Workbook will set the stage for this mini-series and provide context for the following sessions. Thereafter\, we will explore three different types of extreme weather events\, showcasing the latest research on these topics and discussing relevant management implications.
URL:https://foreststewardsguild.org/event/rooted-in-research-adapting-to-extreme-weather-wild-cards-ice-storms/
CATEGORIES:Northeast,Webinar
END:VEVENT
END:VCALENDAR