BEGIN:VCALENDAR
VERSION:2.0
PRODID:-//Forest Stewards Guild - ECPv6.11.0.1//NONSGML v1.0//EN
CALSCALE:GREGORIAN
METHOD:PUBLISH
X-WR-CALNAME:Forest Stewards Guild
X-ORIGINAL-URL:https://foreststewardsguild.org
X-WR-CALDESC:Events for Forest Stewards Guild
REFRESH-INTERVAL;VALUE=DURATION:PT1H
X-Robots-Tag:noindex
X-PUBLISHED-TTL:PT1H
BEGIN:VTIMEZONE
TZID:America/New_York
BEGIN:DAYLIGHT
TZOFFSETFROM:-0500
TZOFFSETTO:-0400
TZNAME:EDT
DTSTART:20250309T070000
END:DAYLIGHT
BEGIN:STANDARD
TZOFFSETFROM:-0400
TZOFFSETTO:-0500
TZNAME:EST
DTSTART:20251102T060000
END:STANDARD
END:VTIMEZONE
BEGIN:VEVENT
DTSTART;TZID=America/New_York:20250702T110000
DTEND;TZID=America/New_York:20250702T123000
DTSTAMP:20260422T060352
CREATED:20250618T184208Z
LAST-MODIFIED:20250626T034719Z
UID:10971-1751454000-1751459400@foreststewardsguild.org
SUMMARY:Eyes on the Future of Ash: Incorporating Lingering Ash Detection and Breeding into Monitoring and Management
DESCRIPTION:Register \nWednesday\, July 2nd\, 2025 \n11:00 a.m. – 12:30 p.m. ET \nAbout the Webinar: \nJoin the Forest Stewards Guild’s Sustaining Ash Partners Network\, the Monitoring and Managing Ash (MaMA) program\, and partners for our upcoming webinar focused on strategies to monitor and manage for lingering ash (trees with resistance to EAB) at all stages of the EAB infestation. Discover how lingering ash trees play a critical role in the future of our forests for ash stewardship and EAB resistance breeding! \nYou’ll Learn: \n\nStrategies for integrating lingering ash detection into management for the emerald ash borer (EAB) invasion\nHow you can incorporate resistance breeding into conservation efforts for ash\nPractical forest management approaches through case studies in the Northeast\n\nFeaturing Speakers: \n\nJonathan Rosenthal & Dr. Radka Wildova\, Ecological Research Institute\, Monitoring and Managing Ash (MaMA)\nPieter Van Loon\, Forester\, Vermont Land Trust\nMeredith Taylor\, Biologist\, NYC Department of Environmental Protection\n\nWebinar agenda \nThis event is approved for 1.00 SAF Category 1 Continuing Education Credit. \nThe Sustaining Ash Partners Network is supported by the USDA Forest Service Landscape Scale Restoration program. \nIf you have any questions\, please contact Rachel Swanwick at rswanwick@forestguild.org.
URL:https://foreststewardsguild.org/event/eyes-on-the-future-of-ash-incorporating-lingering-ash-detection-and-breeding-into-monitoring-and-management/
CATEGORIES:Webinar
END:VEVENT
BEGIN:VEVENT
DTSTART;TZID=America/New_York:20250708T080000
DTEND;TZID=America/New_York:20250710T170000
DTSTAMP:20260422T060352
CREATED:20250624T165833Z
LAST-MODIFIED:20250624T165940Z
UID:10997-1751961600-1752166800@foreststewardsguild.org
SUMMARY:Northeast – Midwest Regional Prescribed Fire Science and Management Workshop
DESCRIPTION:Register \nJuly 8 – 10\, 2025 \nVirtual presentations and in-person field tours \nFull event website \nEvent schedule \nThis year\, we are taking a fresh approach with our 2025 Workshop by introducing a “Blended Learning Excursion.” The event will span three days\, combining virtual learning with in-person field trip opportunities across the Northeast and Midwest. \n\nDay One will feature a half day of virtual presentations\, with Keynote from Dr. Stephen J. Pyne\, and a Session on The Many Cultures of Fire.\nDay Two will be in-person field trips\, hosted independently across the Northeast-Midwest by willing participants; and a bonus virtual session featuring Educational Opportunities and Resources Related to Prescribed Burning.\nOn Day Three\, we will have another half day of virtual presentations focused on common denominators of organizational\, local\, and regional fire cultures for successful wildland fire management\, and lightning presentations by representation from each of the 20 States in a Prescribed Fire Update.\n\nThe workshop is sponsored by the Northeast Regional Strategy Committee (NE RSC)\, a regional organization chartered by the national Wildland Fire Leadership Council (WFLC) to coordinate and support implementation of the National Cohesive Wildland Fire Management Strategy across the 20 Northeast and Midwest states.
URL:https://foreststewardsguild.org/event/northeast-midwest-regional-prescribed-fire-science-and-management-workshop-2/
CATEGORIES:Field event,Lake States,Northeast,Webinar
END:VEVENT
END:VCALENDAR