BEGIN:VCALENDAR
VERSION:2.0
PRODID:-//Forest Stewards Guild - ECPv6.11.0.1//NONSGML v1.0//EN
CALSCALE:GREGORIAN
METHOD:PUBLISH
X-WR-CALNAME:Forest Stewards Guild
X-ORIGINAL-URL:https://foreststewardsguild.org
X-WR-CALDESC:Events for Forest Stewards Guild
REFRESH-INTERVAL;VALUE=DURATION:PT1H
X-Robots-Tag:noindex
X-PUBLISHED-TTL:PT1H
BEGIN:VTIMEZONE
TZID:America/Los_Angeles
BEGIN:DAYLIGHT
TZOFFSETFROM:-0800
TZOFFSETTO:-0700
TZNAME:PDT
DTSTART:20240310T100000
END:DAYLIGHT
BEGIN:STANDARD
TZOFFSETFROM:-0700
TZOFFSETTO:-0800
TZNAME:PST
DTSTART:20241103T090000
END:STANDARD
END:VTIMEZONE
BEGIN:VEVENT
DTSTART;TZID=America/Los_Angeles:20240626T083000
DTEND;TZID=America/Los_Angeles:20240626T123000
DTSTAMP:20260423T060205
CREATED:20240530T153013Z
LAST-MODIFIED:20240621T020709Z
UID:9606-1719390600-1719405000@foreststewardsguild.org
SUMMARY:Wildlife Field Day: Forestry for the Birds
DESCRIPTION:Register \nJune 26\, 2024\n8:30 a.m. – 12:30 p.m. \nCorvallis\, OR (location details will be provided to attendees) \nJoin us for a discussion and forest tour featuring the Forest Stewards Guild’s Forestry for the Birds Western Oregon Guide (take home a copy for your $5 registration fee). \nThis Guide was developed to assist woodland caretakers including landowners\, loggers\, foresters\, natural resource managers\, or practitioners\, to identify\, assess\, and support a healthy forest with birds in mind. We will review the guide while walking through various habitats and forest stages. Learn more about the focal birds within the Guide\, bird habitat preferences\, identifying understory plants\, and forest structure and variability that make appealing habitat for different bird species. \nEvent agenda: \n8:30 – Early birds get coffee & pastries\n9:00 – Welcome & introductions\n9:45 – What is Forestry for the Birds?\n10:00 – Forest tour applying the Guide\n12:30 – End workshop
URL:https://foreststewardsguild.org/event/wildlife-field-day-forestry-for-the-birds/
CATEGORIES:Field event,Forestry for the Birds,Pacific Northwest
END:VEVENT
END:VCALENDAR