BEGIN:VCALENDAR
VERSION:2.0
PRODID:-//Forest Stewards Guild - ECPv6.11.0.1//NONSGML v1.0//EN
CALSCALE:GREGORIAN
METHOD:PUBLISH
X-ORIGINAL-URL:https://foreststewardsguild.org
X-WR-CALDESC:Events for Forest Stewards Guild
REFRESH-INTERVAL;VALUE=DURATION:PT1H
X-Robots-Tag:noindex
X-PUBLISHED-TTL:PT1H
BEGIN:VTIMEZONE
TZID:America/New_York
BEGIN:DAYLIGHT
TZOFFSETFROM:-0500
TZOFFSETTO:-0400
TZNAME:EDT
DTSTART:20250309T070000
END:DAYLIGHT
BEGIN:STANDARD
TZOFFSETFROM:-0400
TZOFFSETTO:-0500
TZNAME:EST
DTSTART:20251102T060000
END:STANDARD
END:VTIMEZONE
BEGIN:VTIMEZONE
TZID:America/Los_Angeles
BEGIN:DAYLIGHT
TZOFFSETFROM:-0800
TZOFFSETTO:-0700
TZNAME:PDT
DTSTART:20250309T100000
END:DAYLIGHT
BEGIN:STANDARD
TZOFFSETFROM:-0700
TZOFFSETTO:-0800
TZNAME:PST
DTSTART:20251102T090000
END:STANDARD
END:VTIMEZONE
BEGIN:VEVENT
DTSTART;TZID=America/New_York:20250430T120000
DTEND;TZID=America/New_York:20250501T190000
DTSTAMP:20260422T092210
CREATED:20250328T025211Z
LAST-MODIFIED:20250328T035436Z
UID:10617-1746014400-1746126000@foreststewardsguild.org
SUMMARY:The Guild’s Business Plan (webinar)
DESCRIPTION:Register (for one or both sessions…they will be the same presentation) \nApril 30\, 2025 at Noon EDT \nMay 1\, 2025 at 7:00 p.m. EDT  \nGuild members are invited to join a discussion about our new business plan. Ignited by the spark of shared passion\, the Guild was founded in 1995 to both practice and promote forest stewardship. Our national network of members\, staff\, and partners have advanced the culture of forest stewardship based on ethical principles\, best-available science\, and diverse experience. Three decades of thought-meets-practice leadership from the Guild and partners has brought the concept of ecological forestry from the fringes to become the expected standard for management in much of the U.S.\, but there is much more work to do!  \nZander Evans will share the strategic choices the Guild is making to expand our positive impact\, increase our membership\, and step up to our responsibility to keep forests healthy in the face of wildfire\, droughts\, invasive species\, and other threats. We will host two opportunities with the hope the one option will work for members interested in the discussion. 
URL:https://foreststewardsguild.org/event/the-guilds-business-plan-webinar/
CATEGORIES:Guild Gathering,Intermountain West,Lake States,Pacific Northwest,Southeast,Southwest,Webinar
END:VEVENT
BEGIN:VEVENT
DTSTART;TZID=America/Los_Angeles:20250509T083000
DTEND;TZID=America/Los_Angeles:20250509T123000
DTSTAMP:20260422T092210
CREATED:20250312T192352Z
LAST-MODIFIED:20250411T171434Z
UID:10520-1746779400-1746793800@foreststewardsguild.org
SUMMARY:Forestry for the Birds: Western Oregon Workshop
DESCRIPTION:Pileated Woodpecker \nRegister \nFriday\, May 9\, 2025\n8:30 a.m. – 12:30 p.m. Pacific Time \nBird Alliance of Oregon Wildlife Sanctuary\n5151 NW Cornell Road\, Portland\, OR 97210  \nJoin us at the Bird Alliance of Oregon Wildlife Sanctuary for the Forestry for the Birds: Western Oregon Workshop. This event will gather landowners\, land managers\, and bird enthusiasts to explore practical ways to enhance bird habitat in Oregon’s forests.  \nJoe Liebezeit\, expert birder from Bird Alliance of Oregon\, and Jake Barker\, OSU Extension Forester\, will guide discussions on bird-friendly forest management. We will walk through the Forestry for the Birds Western Oregon Guide (included with the $5 – $10 registration fee)\, applying its principles to the sanctuary’s landscape.  \nThis workshop is designed for a range of participants\, including landowners\, HOA and community managers\, park stewards\, foresters\, and natural resource professionals. Key topics will include:  \n\nIdentifying and assessing bird habitat in various forest types \n\n\nUnderstanding the focal bird species within the guide and their habitat needs \n\n\nRecognizing key trees\, understory plants\, and structural diversity that support birds \n\n\nApplying bird-friendly forestry practices to both rural and urban forests \n\n No prior experience in birding or forestry is needed. Bring your curiosity\, a willingness to share\, and binoculars if you have them.  \n Coffee and pastries will be provided for early arrivals. We look forward to seeing you in May.  \nAgenda:  \n8:30 – Early birds get coffee & pastries  \n9:00 – Welcome & Introductions  \n9:45 – What is Forestry for the Birds?   \n10:00 – Forest tour applying the Guide   \n12:30 – End Workshop  \nThis event is approved for 3 Continuing Education Credits from the Society for American Foresters. Wildlife Society CEUs are pending.
URL:https://foreststewardsguild.org/event/forestry-for-the-birds-western-oregon-workshop/
CATEGORIES:Field event,Forestry for the Birds,Pacific Northwest
END:VEVENT
END:VCALENDAR