BEGIN:VCALENDAR
VERSION:2.0
PRODID:-//Forest Stewards Guild - ECPv6.11.0.1//NONSGML v1.0//EN
CALSCALE:GREGORIAN
METHOD:PUBLISH
X-WR-CALNAME:Forest Stewards Guild
X-ORIGINAL-URL:https://foreststewardsguild.org
X-WR-CALDESC:Events for Forest Stewards Guild
REFRESH-INTERVAL;VALUE=DURATION:PT1H
X-Robots-Tag:noindex
X-PUBLISHED-TTL:PT1H
BEGIN:VTIMEZONE
TZID:America/Denver
BEGIN:DAYLIGHT
TZOFFSETFROM:-0700
TZOFFSETTO:-0600
TZNAME:MDT
DTSTART:20240310T090000
END:DAYLIGHT
BEGIN:STANDARD
TZOFFSETFROM:-0600
TZOFFSETTO:-0700
TZNAME:MST
DTSTART:20241103T080000
END:STANDARD
END:VTIMEZONE
BEGIN:VTIMEZONE
TZID:America/New_York
BEGIN:DAYLIGHT
TZOFFSETFROM:-0500
TZOFFSETTO:-0400
TZNAME:EDT
DTSTART:20240310T070000
END:DAYLIGHT
BEGIN:STANDARD
TZOFFSETFROM:-0400
TZOFFSETTO:-0500
TZNAME:EST
DTSTART:20241103T060000
END:STANDARD
END:VTIMEZONE
BEGIN:VTIMEZONE
TZID:America/Los_Angeles
BEGIN:DAYLIGHT
TZOFFSETFROM:-0800
TZOFFSETTO:-0700
TZNAME:PDT
DTSTART:20240310T100000
END:DAYLIGHT
BEGIN:STANDARD
TZOFFSETFROM:-0700
TZOFFSETTO:-0800
TZNAME:PST
DTSTART:20241103T090000
END:STANDARD
END:VTIMEZONE
BEGIN:VEVENT
DTSTART;TZID=America/Denver:20240603T190000
DTEND;TZID=America/Denver:20240603T200000
DTSTAMP:20260423T055654
CREATED:20240517T022022Z
LAST-MODIFIED:20240517T022219Z
UID:9569-1717441200-1717444800@foreststewardsguild.org
SUMMARY:A Forest of Your Own: The Pacific Northwest Handbook of Ecological Forestry
DESCRIPTION:Full presentation details \nJune 3\, 2024\n7:00 – 8:00 p.m. \nLocation: Northwest Nature Shop\, 154 Oak Street\, Ashland\, OR 97520 \nSeth Zukerman\, co-author of A Forest of Your Own: The Pacific Northwest Handbook of Ecological Forestry\, will discuss forest management and ecological forestry. From those who own forested property already to those who dream of someday having a forest to call their own and everyone in between\, this presentation will explore  how to “read” a forest\, sustainable management\, wildfire risk reduction\, climate change adaptation\, ways to enhance wildlife habitat\, and watershed protection. \nAs a journalist\, Seth Zuckerman reported extensively on forests\, salmon\, and the human communities that depend on them. He is the executive director of the Northwest Natural Resource Group and author of several books\, including Saving Our Ancient Forests and Salmon Nation. \nThe presentation is at Northwest Nature Shop.  Seating is limited so arrive early to secure a seat. There is no charge for this event.
URL:https://foreststewardsguild.org/event/a-forest-of-your-own-the-pacific-northwest-handbook-of-ecological-forestry/
CATEGORIES:Pacific Northwest
END:VEVENT
BEGIN:VEVENT
DTSTART;TZID=America/New_York:20240604T190000
DTEND;TZID=America/New_York:20240604T203000
DTSTAMP:20260423T055654
CREATED:20240418T180618Z
LAST-MODIFIED:20240418T180618Z
UID:9433-1717527600-1717533000@foreststewardsguild.org
SUMMARY:Virtue and The Steward’s Mind - Communicating Forestry webinar series
DESCRIPTION:Register \nJune 4\, 2024\n7:00 – 8:30 p.m. Eastern Time \nJoin Guild member Marianne Patinelli-Dubay\, a philosopher with the State University of New York College of Environmental Science and Forestry\, for a presentation focused on understanding Guild-style forestry in the context of virtue ethics. Following the presentation\, participants will be encouraged to explore these theoretical concepts in a facilitated discussion.  \nA forester is trained to understand and facilitate the necessary conditions for regeneration and flourishing. Through practice and careful observation over time\, your ability to recognize the natural limits of a forest stand is refined. You take an inventory and reach a conclusion about how to proceed with a harvest by inhabiting the slope and aspect of the land\, reading the ground for difficulties\, knowing your own limits and those of others to identify and then do the right thing.    \nAs your steward’s mind matures\, your approach becomes intuitive. Your familiarity with the land and your knowledge of what it wants in terms of optimal conditions becomes a matter of how you see more than how you see the land.  Is this forestry or virtue? Is there a difference? How and when do virtue and forestry coincide? To proceed with honesty\, courage\, and a clear understanding of need versus desire means living in the question of what good forestry means for the way we work and live on the land.   \nAs part of our Communicating Forestry Series\, this webinar recognizes that the more we understand what motivates Guild members to do good forestry\, the better we can communicate good forestry and its drivers to specific interested parties\, landowners\, and the general public.   \nWatch recordings of previous webinars in this Communicating Forestry Series\, by and for Guild members on YouTube. The full list of previous sessions is in the Guild’s webinar library.
URL:https://foreststewardsguild.org/event/virtue-and-the-stewards-mind-communicating-forestry-webinar-series/
CATEGORIES:Guild Gathering,Intermountain West,Lake States,Northeast,Pacific Northwest,Southeast,Southwest,Webinar
END:VEVENT
BEGIN:VEVENT
DTSTART;TZID=America/New_York:20240613T190000
DTEND;TZID=America/New_York:20240613T200000
DTSTAMP:20260423T055654
CREATED:20240524T151723Z
LAST-MODIFIED:20240524T151838Z
UID:9581-1718305200-1718308800@foreststewardsguild.org
SUMMARY:Environmental Ethics in Running a Logging Business
DESCRIPTION:Register \nJune 13\, 2024\n7:00 – 8:00 p.m. Eastern Time \nJoin us for a discussion with Guild member Katrina Amaral of Timberdoodle Farm to learn about logging for long-term sustainable land management while farming\, what to consider for stand health and diversity\, and Timberdoodle’s environmental ethic. \nTimberdoodle Farm is a specialty logging & sawmill business based in Strafford\, New Hampshire. Owners Miles and Katrina Amaral began custom sawmilling on a homemade chainsaw mill in 2010\, operating out of their landlord’s driveway in Madbury. With backgrounds in mechanical engineering and conservation biology\, Miles and Katrina found that they weren’t satisfied by commercial timber offerings – they believe in locally-sourced\, ecologically responsible lumber. Timberdoodle Farm has been featured in NPR Marketplace\, Fast Company\, Northern Woodlands\, The Northern Logger magazine\, and various podcasts. \nKatrina and Miles are members of NH Timberland Owners Association (NHTOA) and the Northeast Loggers Association (NELA). In addition\, Katrina serves on the Board of NELA\, as a member of the Forest Society’s (SPNHF) Forestry Committee\, and a professional member of the Forest Stewards Guild.
URL:https://foreststewardsguild.org/event/environmental-ethics-in-running-a-logging-business/
CATEGORIES:Intermountain West,Lake States,Northeast,Pacific Northwest,Southeast,Southwest,Webinar
END:VEVENT
BEGIN:VEVENT
DTSTART;TZID=America/New_York:20240620T133000
DTEND;TZID=America/New_York:20240620T143000
DTSTAMP:20260423T055654
CREATED:20240606T225946Z
LAST-MODIFIED:20240606T225946Z
UID:9616-1718890200-1718893800@foreststewardsguild.org
SUMMARY:Old-Growth Forest Stewardship: New USFS Technical Guidance
DESCRIPTION:Register for this webinar \nJune 20\, 2024\n10:30 – 11:30 a.m. PT / 11:30 a.m. – 12:30 p.m. MT / 12:30 – 1:30 p.m. CT / 1:30 – 2:30 p.m. ET \nPlease join Forest Stewards Guild members and colleagues for a discussion of the new US Forest Service Technical Guidance for Standardized Silvicultural Prescriptions for Managing Old-Growth Forests. This is an informal chance to share and learn together. Dr. Zander Evans will facilitate a conversation about the Technical Guidance and what can be useful for stewards of Tribal\, private\, and conservation lands.
URL:https://foreststewardsguild.org/event/old-growth-forest-stewardship-new-usfs-technical-guidance/
CATEGORIES:Intermountain West,Lake States,Northeast,Pacific Northwest,Southeast,Southwest,Webinar
END:VEVENT
BEGIN:VEVENT
DTSTART;TZID=America/Los_Angeles:20240626T083000
DTEND;TZID=America/Los_Angeles:20240626T123000
DTSTAMP:20260423T055654
CREATED:20240530T153013Z
LAST-MODIFIED:20240621T020709Z
UID:9606-1719390600-1719405000@foreststewardsguild.org
SUMMARY:Wildlife Field Day: Forestry for the Birds
DESCRIPTION:Register \nJune 26\, 2024\n8:30 a.m. – 12:30 p.m. \nCorvallis\, OR (location details will be provided to attendees) \nJoin us for a discussion and forest tour featuring the Forest Stewards Guild’s Forestry for the Birds Western Oregon Guide (take home a copy for your $5 registration fee). \nThis Guide was developed to assist woodland caretakers including landowners\, loggers\, foresters\, natural resource managers\, or practitioners\, to identify\, assess\, and support a healthy forest with birds in mind. We will review the guide while walking through various habitats and forest stages. Learn more about the focal birds within the Guide\, bird habitat preferences\, identifying understory plants\, and forest structure and variability that make appealing habitat for different bird species. \nEvent agenda: \n8:30 – Early birds get coffee & pastries\n9:00 – Welcome & introductions\n9:45 – What is Forestry for the Birds?\n10:00 – Forest tour applying the Guide\n12:30 – End workshop
URL:https://foreststewardsguild.org/event/wildlife-field-day-forestry-for-the-birds/
CATEGORIES:Field event,Forestry for the Birds,Pacific Northwest
END:VEVENT
END:VCALENDAR