BEGIN:VCALENDAR
VERSION:2.0
PRODID:-//Forest Stewards Guild - ECPv6.11.0.1//NONSGML v1.0//EN
CALSCALE:GREGORIAN
METHOD:PUBLISH
X-ORIGINAL-URL:https://foreststewardsguild.org
X-WR-CALDESC:Events for Forest Stewards Guild
REFRESH-INTERVAL;VALUE=DURATION:PT1H
X-Robots-Tag:noindex
X-PUBLISHED-TTL:PT1H
BEGIN:VTIMEZONE
TZID:America/Denver
BEGIN:DAYLIGHT
TZOFFSETFROM:-0700
TZOFFSETTO:-0600
TZNAME:MDT
DTSTART:20240310T090000
END:DAYLIGHT
BEGIN:STANDARD
TZOFFSETFROM:-0600
TZOFFSETTO:-0700
TZNAME:MST
DTSTART:20241103T080000
END:STANDARD
END:VTIMEZONE
BEGIN:VTIMEZONE
TZID:America/New_York
BEGIN:DAYLIGHT
TZOFFSETFROM:-0500
TZOFFSETTO:-0400
TZNAME:EDT
DTSTART:20240310T070000
END:DAYLIGHT
BEGIN:STANDARD
TZOFFSETFROM:-0400
TZOFFSETTO:-0500
TZNAME:EST
DTSTART:20241103T060000
END:STANDARD
END:VTIMEZONE
BEGIN:VEVENT
DTSTART;TZID=America/Denver:20240511T103000
DTEND;TZID=America/Denver:20240511T123000
DTSTAMP:20260423T060132
CREATED:20240424T171627Z
LAST-MODIFIED:20240424T171627Z
UID:9449-1715423400-1715430600@foreststewardsguild.org
SUMMARY:Wildlife Field Day featuring Forestry for the Birds
DESCRIPTION:Register ($5) \nMay 11\, 2024\n8:30 a.m. – 12:30 p.m. Pacific Time \nHopkins Demonstration Forest\n16750 S Brockway Road\, Oregon City\, OR \nJoin OSU Extension and the Forest Stewards Guild for a discussion and forest tour featuring the Forest Stewards Guild’s Forestry for the Birds: Western Oregon Guide. The Guide was developed to assist woodland caretakers including landowners\, loggers\, foresters\, natural resource managers\, or practitioners\, to identify\, assess\, and support a healthy forest with birds in mind. We will review the guide while walking through various habitats and forest stages. Learn more about the birds within the Guide\, bird habitat preferences\, and forest structure and variability that make appealing habitat for different bird species. \nBring your stories\, curiosity\, and binoculars if you have them. We will have coffee and snacks for the early birds!
URL:https://foreststewardsguild.org/event/wildlife-field-day-featuring-forestry-for-the-birds/
CATEGORIES:Field event,Forestry for the Birds,Pacific Northwest
END:VEVENT
BEGIN:VEVENT
DTSTART;TZID=America/New_York:20240522T200000
DTEND;TZID=America/New_York:20240522T204500
DTSTAMP:20260423T060132
CREATED:20240425T205505Z
LAST-MODIFIED:20240425T210253Z
UID:9471-1716408000-1716410700@foreststewardsguild.org
SUMMARY:Career Call! Guild Student members join Professionals in a Virtual Gathering Circle
DESCRIPTION:Register \nWednesday\, May 22\, 2024\n5:00 – 5:45 p.m. PT / 6:00 p.m. MT / 7:00 p.m. CT / 8:00 p.m. ET \nJoin each other for an opportunity to: \n1) meet other members\, \n2) hear from professionals willing to talk about their jobs\, what was important to them in college\, and what they wish they knew or did when graduating\, (your advice and tips as students enter the workforce or choose degree programs and research projects is so valuable)\, \n3) hear from students about their concerns or needs as they look for and prepare for their careers\, \n4) enjoy an informal Q&A time before the end of this term. \nGuild student chapter members have requested this sequel to the career call we hosted in 2020. Please register if you are willing to share some insights\, answer some questions for student members\, or ask questions of fellow members!
URL:https://foreststewardsguild.org/event/career-call-guild-student-members-join-professionals-in-a-virtual-gathering-circle/
CATEGORIES:Guild Gathering,Intermountain West,Lake States,Northeast,Pacific Northwest,Southeast,Southwest,Student Chapter event,Webinar
END:VEVENT
BEGIN:VEVENT
DTSTART;TZID=America/New_York:20240530T130000
DTEND;TZID=America/New_York:20240530T140000
DTSTAMP:20260423T060132
CREATED:20240430T232352Z
LAST-MODIFIED:20240430T232352Z
UID:9481-1717074000-1717077600@foreststewardsguild.org
SUMMARY:Stewardship opportunities: Becoming an NRCS Technical Service Provider
DESCRIPTION:Register \nThursday\, May 30\, 2024\n1:00 p.m. ET \nPeter Hoagland- Northeast Regional TSP Coordinator\, USDA-NRCS \nIn this webinar foresters and other natural resources professionals will learn about the USDA Natural Resources Conservation Service (NRCS) Technical Service Provider (TSP) Program. Technical Service Providers (TSPs) work on behalf of private landowners and land-managers to offer conservation planning and project implementation support services that meet the criteria of USDA NRCS programs. TSPs are certified by NRCS through a formal training process to develop planning and practice design documents\, such as Forest Management Plans\, to help eligible customers assess the current condition of their lands and to recommend conservation practices that meet NRCS standards and specifications.
URL:https://foreststewardsguild.org/event/stewardship-opportunities-becoming-an-nrcs-technical-service-provider/
CATEGORIES:Lake States,Northeast,Pacific Northwest,Southeast,Southwest,Webinar
END:VEVENT
END:VCALENDAR