BEGIN:VCALENDAR
VERSION:2.0
PRODID:-//Forest Stewards Guild - ECPv6.11.0.1//NONSGML v1.0//EN
CALSCALE:GREGORIAN
METHOD:PUBLISH
X-ORIGINAL-URL:https://foreststewardsguild.org
X-WR-CALDESC:Events for Forest Stewards Guild
REFRESH-INTERVAL;VALUE=DURATION:PT1H
X-Robots-Tag:noindex
X-PUBLISHED-TTL:PT1H
BEGIN:VTIMEZONE
TZID:America/Vancouver
BEGIN:DAYLIGHT
TZOFFSETFROM:-0800
TZOFFSETTO:-0700
TZNAME:PDT
DTSTART:20230312T100000
END:DAYLIGHT
BEGIN:STANDARD
TZOFFSETFROM:-0700
TZOFFSETTO:-0800
TZNAME:PST
DTSTART:20231105T090000
END:STANDARD
END:VTIMEZONE
BEGIN:VEVENT
DTSTART;TZID=America/Vancouver:20230520T083000
DTEND;TZID=America/Vancouver:20230520T120000
DTSTAMP:20260423T232540
CREATED:20230316T205216Z
LAST-MODIFIED:20230515T034828Z
UID:8012-1684571400-1684584000@foreststewardsguild.org
SUMMARY:Forestry for the Birds - Western Oregon: A Workshop for Forestland Caretakers
DESCRIPTION:Photo of a brown creeper on a tree trunk\, by Mick Thompson \nRegister soon! Space is limited. \nMay 20\, 2023\n8:30 a.m. – 12:00 p.m. Pacific Time \nLocation: Forest Grove\, OR (off Hwy 6). The event address will be shared after registration.   \nApproved for: \n\n3 Cat.1 SAF (Society of American Foresters) Credits.\n1 CEU in Category I of the Certified Wildlife Biologist®/Professional Development Certificate Program\n3 CEU from ISA (International Society of Arboriculture)\n\nJoin us and wildlife biologist Nicole Ruggiero from the Tualatin Soil and Water Conservation District and forester Scott Hayes (retired) from Oregon Department of Forestry who will help demonstrate the Forestry for the Birds Western Oregon Guide and identify birds and habitat preferences.  \nThis Guide was developed to assist woodland caretakers including landowners\, loggers\, foresters\, natural resource managers\, or practitioners\, to identify\, assess\, and support a healthy forest with birds in mind. We will review the guide while walking through various habitats and forest stages. Learn more about the focal birds within the Guide\, bird habitat preferences\, identifying understory plants\, and forest structure and variability that make appealing habitat for different bird species.   \nWe look forward to meeting you\, hearing about your management goals and efforts\, wildlife\, and bird observations! Please bring your stories\, curiosity\, and binoculars if you have them. We will have coffee and cake for the early bird!  \nEvent agenda:  \n8:30 – Early birds get coffee & pastries  \n9:00 – Welcome & Introductions  \n9:45 – What is Forestry for the Birds?   \n10:00 – A walk around applying the Guide   \n12:00 – End Workshop  \nNOTE: Policy on event cancellations –   \n\nIf a registrant cancels their own registration at least 48 hours ahead of the event and wants a refund for registration fees\, we will issue a refund. \nIf the Guild cancels an event\, we will refund registrants the full amount they paid\, including any credit card fees they covered with their original registration. \n\nThis event is free for Guild and Oregon Small Woodland Association (OSWA) members.
URL:https://foreststewardsguild.org/event/forestry-for-the-birds-western-oregon-a-workshop-for-forestland-caretakers/
CATEGORIES:Field event,Pacific Northwest
END:VEVENT
END:VCALENDAR