BEGIN:VCALENDAR
VERSION:2.0
PRODID:-//Forest Stewards Guild - ECPv6.11.0.1//NONSGML v1.0//EN
CALSCALE:GREGORIAN
METHOD:PUBLISH
X-ORIGINAL-URL:https://foreststewardsguild.org
X-WR-CALDESC:Events for Forest Stewards Guild
REFRESH-INTERVAL;VALUE=DURATION:PT1H
X-Robots-Tag:noindex
X-PUBLISHED-TTL:PT1H
BEGIN:VTIMEZONE
TZID:America/Vancouver
BEGIN:DAYLIGHT
TZOFFSETFROM:-0800
TZOFFSETTO:-0700
TZNAME:PDT
DTSTART:20220313T100000
END:DAYLIGHT
BEGIN:STANDARD
TZOFFSETFROM:-0700
TZOFFSETTO:-0800
TZNAME:PST
DTSTART:20221106T090000
END:STANDARD
END:VTIMEZONE
BEGIN:VTIMEZONE
TZID:America/New_York
BEGIN:DAYLIGHT
TZOFFSETFROM:-0500
TZOFFSETTO:-0400
TZNAME:EDT
DTSTART:20220313T070000
END:DAYLIGHT
BEGIN:STANDARD
TZOFFSETFROM:-0400
TZOFFSETTO:-0500
TZNAME:EST
DTSTART:20221106T060000
END:STANDARD
END:VTIMEZONE
BEGIN:VEVENT
DTSTART;TZID=America/Vancouver:20221201T120000
DTEND;TZID=America/Vancouver:20221201T130000
DTSTAMP:20260424T064357
CREATED:20221121T234223Z
LAST-MODIFIED:20221121T234245Z
UID:7465-1669896000-1669899600@foreststewardsguild.org
SUMMARY:South-Central Oregon Post-Fire Resilience Strategy
DESCRIPTION:Register \nThursday\, December 1\, 2022\n12:00 – 1:00 p.m. Pacific time\nWebinar \nPresenters: Libby Pansing and Brian Morris\, American Forests \nSince 2018\, approximately 660\,000 acres have seen wildfire within Klamath and Lake Counties\, two thirds of which burned at high severity. An additional 45\,000 acres of reforestation backlog exists on the Fremont-Winema National Forest from fires prior to 2018. Fortunately\, this region has a long history of successful shared stewardship\, resulting in increased funding and treatment scale across federal and private lands. With their unique combination of partnership experience and restoration expertise\, the people of Klamath and Lake Counties are positioned to grow a national model for post-wildfire recovery. This strategy will continue landscape-scale\, cross-jurisdictional collaboration to recover from wildfires of unprecedented severity and ensure long-term forest persistence\, future forest and ecosystem health\, and regional economic stability.
URL:https://foreststewardsguild.org/event/south-central-oregon-post-fire-resilience-strategy/
CATEGORIES:Pacific Northwest,Webinar
END:VEVENT
BEGIN:VEVENT
DTSTART;TZID=America/New_York:20221208T130000
DTEND;TZID=America/New_York:20221208T143000
DTSTAMP:20260424T064357
CREATED:20221108T165643Z
LAST-MODIFIED:20221108T222420Z
UID:7396-1670504400-1670509800@foreststewardsguild.org
SUMMARY:Taking Action: Where to Start (Virtual ForestHer NC)
DESCRIPTION:Register \nDecember 8\, 2022\n1:00 – 2:30 p.m. Eastern Time on zoom \nJoin other ForestHer participants as we explore the process of going from “I have land!” to actively practicing conservation on your property. It can be tough to know where to start\, so we’ll be breaking things down into a clear\, step-by-step guide. You\, as landowners\, will find out where you are in the process\, and practice honing your goals to give you the best chance of success. In compliance with the Americans with Disabilities Act\, NC State will honor requests for reasonable accommodations made by individuals with disabilities. Requests can be served more effectively if notice is provided at least 10 days before the event. Please direct accommodation requests to Robert Bardon at rebardon@ncsu.edu or 919.515.5575.
URL:https://foreststewardsguild.org/event/taking-action-where-to-start-virtual-foresther-nc/
CATEGORIES:Intermountain West,Lake States,Northeast,Pacific Northwest,Southeast,Southwest,Webinar,WOW
END:VEVENT
END:VCALENDAR