BEGIN:VCALENDAR
VERSION:2.0
PRODID:-//Forest Stewards Guild - ECPv6.11.0.1//NONSGML v1.0//EN
CALSCALE:GREGORIAN
METHOD:PUBLISH
X-ORIGINAL-URL:https://foreststewardsguild.org
X-WR-CALDESC:Events for Forest Stewards Guild
REFRESH-INTERVAL;VALUE=DURATION:PT1H
X-Robots-Tag:noindex
X-PUBLISHED-TTL:PT1H
BEGIN:VTIMEZONE
TZID:America/New_York
BEGIN:DAYLIGHT
TZOFFSETFROM:-0500
TZOFFSETTO:-0400
TZNAME:EDT
DTSTART:20250309T070000
END:DAYLIGHT
BEGIN:STANDARD
TZOFFSETFROM:-0400
TZOFFSETTO:-0500
TZNAME:EST
DTSTART:20251102T060000
END:STANDARD
END:VTIMEZONE
BEGIN:VEVENT
DTSTART;TZID=America/New_York:20250501T140000
DTEND;TZID=America/New_York:20250501T150000
DTSTAMP:20260422T123913
CREATED:20250422T180759Z
LAST-MODIFIED:20250422T205924Z
UID:10764-1746108000-1746111600@foreststewardsguild.org
SUMMARY:Slow Wood: Ecological Forestry and Green Building in New England
DESCRIPTION:Register (This is a hybrid event. You’ll have an option in the registration link to attend online via zoom or in-person.) \nMay 1\, 2025\n2:00 – 3:00 p.m. ET \nPhysical location: \nGeorge D. Aiken Center\, Room 311\nUniversity of Vermont\n81 Carrigan Drive\, Burlington\, VT 05403 \nOr online: zoom join link will be sent to you via email after registration \nEvent flyer for download \nJoin us for an inspiring hybrid event with Dr. Brian Donahue\, Professor Emeritus of American Environmental Studies from Brandeis University\, to explore his new book Slow Wood: Greener Building From Local Forests.  \nWe’ll cover Donahue’s take on embracing sustainable living\, building his own timber frame home from local wood\, and creating a blueprint to live more responsibly. \nFollowing the talk there will be time for questions and answers with the group. \nThis event is approved for 1.00 SAF Category 1 Continuing Forestry Education Credit. \nIf you have questions\, please contact Rachel Swanwick\, the Guild’s Northeast Program Manager at rswanwick@forestguild.org.
URL:https://foreststewardsguild.org/event/slow-wood-ecological-forestry-and-green-building-in-new-england/
CATEGORIES:Northeast,Webinar
END:VEVENT
END:VCALENDAR