BEGIN:VCALENDAR
VERSION:2.0
PRODID:-//Forest Stewards Guild - ECPv6.11.0.1//NONSGML v1.0//EN
CALSCALE:GREGORIAN
METHOD:PUBLISH
X-WR-CALNAME:Forest Stewards Guild
X-ORIGINAL-URL:https://foreststewardsguild.org
X-WR-CALDESC:Events for Forest Stewards Guild
REFRESH-INTERVAL;VALUE=DURATION:PT1H
X-Robots-Tag:noindex
X-PUBLISHED-TTL:PT1H
BEGIN:VTIMEZONE
TZID:America/New_York
BEGIN:DAYLIGHT
TZOFFSETFROM:-0500
TZOFFSETTO:-0400
TZNAME:EDT
DTSTART:20240310T070000
END:DAYLIGHT
BEGIN:STANDARD
TZOFFSETFROM:-0400
TZOFFSETTO:-0500
TZNAME:EST
DTSTART:20241103T060000
END:STANDARD
END:VTIMEZONE
BEGIN:VEVENT
DTSTART;TZID=America/New_York:20240920T150000
DTEND;TZID=America/New_York:20240920T173000
DTSTAMP:20260423T041019
CREATED:20240809T194155Z
LAST-MODIFIED:20240918T170208Z
UID:9769-1726844400-1726853400@foreststewardsguild.org
SUMMARY:School of Forest Resources Book Reading by author Guild Member in Maine
DESCRIPTION:3:00 p.m. ET: Coe Room of the Memorial Union at the University of Maine Orono \n4:30 p.m. ET: informal Meet-the-Author event at the Orono Brewing Company \nParking pass \nCome meet Ethan Tapper\, forester and Forest Stewards Guild member\, at the University of Maine-Orono\, as he reads from his new book: How to Love a Forest: The Bittersweet Work of Tending a Changing World. How to Love a Forest is a “reimagining of forests and what it means to care for them\,” that has been endorsed by environmental authors such as Doug Tallamy\, Ben Goldfarb\, Bill McKibben\, Tom Wessels and others. At this event\, Ethan will read from How to Love a Forest\, discuss what inspired the book\, answer questions\, and sign books. \nEthan Tapper is a forester\, author\, birder\, naturalist and digital creator from Vermont\, recognized as a thought-leader and a disruptor in the conservation community of the northeastern United States and beyond. Among other awards and distinctions\, Ethan has been named the Northeast-Midwest State Foresters Alliance’s Forester of the Year and the American Tree Farm System’s National Tree Farm Inspector of the Year. Ethan is a regular contributor to Northern Woodlands magazine and a variety of other publications\, and is a digital creator with tens of thousands of followers on Instagram\, YouTube and TikTok (all under the handle @HowToLoveAForest). Learn more about Ethan and his work at EthanTapper.com. \nA full line-up of Ethan’s Maine book tour is outlined here!
URL:https://foreststewardsguild.org/event/school-of-forest-resources-book-reading-by-author-guild-member-in-maine/
CATEGORIES:Northeast
END:VEVENT
END:VCALENDAR