BEGIN:VCALENDAR
VERSION:2.0
PRODID:-//Forest Stewards Guild - ECPv6.11.0.1//NONSGML v1.0//EN
CALSCALE:GREGORIAN
METHOD:PUBLISH
X-WR-CALNAME:Forest Stewards Guild
X-ORIGINAL-URL:https://foreststewardsguild.org
X-WR-CALDESC:Events for Forest Stewards Guild
REFRESH-INTERVAL;VALUE=DURATION:PT1H
X-Robots-Tag:noindex
X-PUBLISHED-TTL:PT1H
BEGIN:VTIMEZONE
TZID:America/New_York
BEGIN:DAYLIGHT
TZOFFSETFROM:-0500
TZOFFSETTO:-0400
TZNAME:EDT
DTSTART:20240310T070000
END:DAYLIGHT
BEGIN:STANDARD
TZOFFSETFROM:-0400
TZOFFSETTO:-0500
TZNAME:EST
DTSTART:20241103T060000
END:STANDARD
END:VTIMEZONE
BEGIN:VEVENT
DTSTART;TZID=America/New_York:20240802T090000
DTEND;TZID=America/New_York:20240802T150000
DTSTAMP:20260423T060229
CREATED:20240620T021941Z
LAST-MODIFIED:20240620T030649Z
UID:9644-1722589200-1722610800@foreststewardsguild.org
SUMMARY:Irregular Shelterwood Silviculture for Carbon Storage and Climate Adaptation
DESCRIPTION:Register (40 participant limit) \nFriday\, August 2\, 2024\n9:00 a.m. – 3:00 p.m. Eastern Time \nLog landing off North Road in Sebec\, Maine*\n*GPS coordinates and directions will be sent to registered participants \nEvent flyer for download \nJoin hosts and Guild members Bob Seymour (University of Maine Professor Emeritus) and Ali Kosiba (University of Vermont Assistant Professor) for a day-long\, intensive field discussion of how emerging concerns about carbon and climate can influence ecological silvicultural systems. We will visit the stands discussed by Kosiba and Seymour in their Northeast Silviculture Institute for Foresters’ presentation (video) about management options for forest carbon\, along with other stands treated with various irregular shelterwood prescriptions in 2017. Wicopy Woods\, a Guild Model Forest in Sebec Maine\, has been managed by Guild members since 1968 and has twice been named Maine’s Outstanding Tree Farm in 1983 and 2020. This tour is designed for a forester audience. Continuing education credits are pending. \nLogistics:\n\nMeet at the log landing off the North Road at 8:30 a.m. for refreshments. GPS coordinates and directions will be sent to registered participants. Tour will begin at 9:00 a.m. and end by 3:00 p.m. Bring a lunch\, water\, and bug repellent for a full day in the woods. After the tour\, we will gather at Bissell Three Rivers Brewery\, arguably Maine’s best brewery\, in nearby Milo (6 miles away). \nFor more information: (207) 944-9534 or rseymour@maine.edu
URL:https://foreststewardsguild.org/event/irregular-shelterwood-silviculture-for-carbon-storage-and-climate-adaptation/
CATEGORIES:Northeast
END:VEVENT
END:VCALENDAR