BEGIN:VCALENDAR
VERSION:2.0
PRODID:-//Forest Stewards Guild - ECPv6.11.0.1//NONSGML v1.0//EN
CALSCALE:GREGORIAN
METHOD:PUBLISH
X-WR-CALNAME:Forest Stewards Guild
X-ORIGINAL-URL:https://foreststewardsguild.org
X-WR-CALDESC:Events for Forest Stewards Guild
REFRESH-INTERVAL;VALUE=DURATION:PT1H
X-Robots-Tag:noindex
X-PUBLISHED-TTL:PT1H
BEGIN:VTIMEZONE
TZID:America/New_York
BEGIN:DAYLIGHT
TZOFFSETFROM:-0500
TZOFFSETTO:-0400
TZNAME:EDT
DTSTART:20240310T070000
END:DAYLIGHT
BEGIN:STANDARD
TZOFFSETFROM:-0400
TZOFFSETTO:-0500
TZNAME:EST
DTSTART:20241103T060000
END:STANDARD
END:VTIMEZONE
BEGIN:VEVENT
DTSTART;TZID=America/New_York:20240701T080000
DTEND;TZID=America/New_York:20240701T170000
DTSTAMP:20260423T075828
CREATED:20240701T170044Z
LAST-MODIFIED:20240701T170044Z
UID:9685-1719820800-1719853200@foreststewardsguild.org
SUMMARY:Northeast Midwest RX Fire Science and Management Conference
DESCRIPTION:Register \nAugust 19 – 22\, 2024 \nHilton Albany\n40 Lodge St\, Albany\, NY 12207 \nAgenda \nA workshop for all wildland fire management partners across the 20 state NE-MW region to share region-wide\, science-based\, fire ecology information oriented toward expanding and maintaining the use of prescribed fire across all landscapes\, jurisdictions\, and fire-dependent ecosystems. \nWorkshop Objectives\nThis regional workshop will: \n\nProvide a forum for all wildland fire management partners to share region-wide\, science-based\, fire ecology information oriented toward expanding and maintaining the use of prescribed fire across all landscapes\, jurisdictions\, and fire-dependent ecosystems.\nProvide an opportunity for scientists\, managers\, and practitioners across the 20-state region to share prescribed fire related experiences\, successes\, and potential solutions to implementation challenges.\nProvide an opportunity for agency leaders and managers to interact with state prescribed fire councils and other key partners.\nServe as a model for future annual or biennial workshops.\n\nPre-workshop Opportunities\nWe are offering two pre-workshop training sessions on Monday\, August 19th.  You can register for these sessions when you register for the workshop. \n\nSmoke TOOLS Workshop: 10:00 – 5:00 pm\nFire History in the Northeast US: Understanding Long-term Fire Regime and Forest Change with Tree Rings and Fire Scars: 1:00 – 5:00 pm\n\nSponsored by the Northeast Regional Strategy Committee (NE RSC)\, a regional organization chartered by the national Wildland Fire Leadership Council (WFLC) to coordinate and support implementation of the National Cohesive Wildland Fire Management Strategy across the 20 Northeast and Midwest states. \n 
URL:https://foreststewardsguild.org/event/northeast-midwest-rx-fire-science-and-management-conference/
CATEGORIES:Northeast
END:VEVENT
END:VCALENDAR