BEGIN:VCALENDAR
VERSION:2.0
PRODID:-//Forest Stewards Guild - ECPv6.11.0.1//NONSGML v1.0//EN
CALSCALE:GREGORIAN
METHOD:PUBLISH
X-ORIGINAL-URL:https://foreststewardsguild.org
X-WR-CALDESC:Events for Forest Stewards Guild
REFRESH-INTERVAL;VALUE=DURATION:PT1H
X-Robots-Tag:noindex
X-PUBLISHED-TTL:PT1H
BEGIN:VTIMEZONE
TZID:America/New_York
BEGIN:DAYLIGHT
TZOFFSETFROM:-0500
TZOFFSETTO:-0400
TZNAME:EDT
DTSTART:20250309T070000
END:DAYLIGHT
BEGIN:STANDARD
TZOFFSETFROM:-0400
TZOFFSETTO:-0500
TZNAME:EST
DTSTART:20251102T060000
END:STANDARD
END:VTIMEZONE
BEGIN:VEVENT
DTSTART;TZID=America/New_York:20250813T090000
DTEND;TZID=America/New_York:20250813T160000
DTSTAMP:20260422T060857
CREATED:20250826T132956Z
LAST-MODIFIED:20250827T144854Z
UID:11096-1755075600-1755100800@foreststewardsguild.org
SUMMARY:Audubon Training & Endorsement Workshop for Vermont Foresters
DESCRIPTION:To register\, or for more information\, please contact\nClaire Mann at claire.mann@audubon.org. (Space is limited to 30 participants) \nTake a step toward becoming an Audubon Endorsed Forester!  \nTuesday\, September 30 \n9:00 a.m. – 4:00 p.m.  ET \nAdirondack Interpretive Center/Huntington Forest \n5922 NY-28N\, Newcomb\, NY 12852 \nThis program is approved for 4.5 Cat 1 SAF CFEs \nEvent Flyer \nThrough Audubon Vermont’s Forester Training and Endorsement Program\, you’ll join a growing network of professional foresters partnering with Audubon to promote healthy\, bird-friendly forests.   \nThis training covers bird habitat needs\, landscape- and stand-level planning\, and tools to support your work in the field.  \nWhat to Expect:  \n\nMorning Sessions: Learn how to assess forest bird habitats needs and apply silviculture to support birds.\nAfternoon Forest Tour: Participate in habitat assessment and management exercises in a mature forest stand.\n\nAudubon’s Forester Training and Endorsement Program is funded in NY by a Landscape Scale Restoration grant through the U.S department of Agriculture\, Forest Service\, an equal opportunity provider. \nAdditional program support and partners:\nForest Stewards Guild\, Society of American Foresters\, NYS Department of Environmental Conservation\, National Fish and Wildlife Foundation\, American Forest Foundation
URL:https://foreststewardsguild.org/event/audubon-training-endorsement-workshop-for-vermont-foresters/
CATEGORIES:Field event,Forestry for the Birds,Northeast
END:VEVENT
BEGIN:VEVENT
DTSTART;TZID=America/New_York:20250820T090000
DTEND;TZID=America/New_York:20250820T160000
DTSTAMP:20260422T060857
CREATED:20250717T163653Z
LAST-MODIFIED:20250717T163653Z
UID:11100-1755680400-1755705600@foreststewardsguild.org
SUMMARY:Audubon Training & Endorsement Workshop for Vermont Foresters
DESCRIPTION:Join Audubon Vermont and take a step toward becoming an Audubon Endorsed Forester!  \nWednesday\, August 20th\, 2025 \n9:00 a.m. – 4:00 p.m.  ET \nHuntington\, Vermont \nRegister here  \nEvent Flyer  \nThrough Audubon Vermont’s Forester Training and Endorsement Program\, you’ll join a growing network of professional foresters partnering with Audubon to promote healthy\, bird-friendly forests.   \nThis training covers bird habitat needs\, landscape- and stand-level planning\, and tools to support your work in the field.  \nWhat to Expect:  \n\nMorning Sessions: Learn how to assess forest bird habitats needs and apply silviculture to support birds.\nAfternoon Forest Tour: Participate in habitat assessment and management exercises in a mature forest stand.\n\nDetails:  \n\nWhen: Wednesday\, August 20th\, 2025\, 9:00 a.m. – 4:00 p.m.  ET \n\n\nWhere: Green Mountain Audubon Center 255 Sherman Hollow Rd\, Huntington\, VT 05462 \n\n\nCredits & Endorsements: This training offers 4.5 Category 1 SAF CFEs and fulfills Steps 1 & 2 of the 3-step endorsement process. \n\n\nRegistration: Click the sign-up link below for additional details and instructions. Bring your own lunch; coffee and snacks will be provided.  \n\nSpaces are limited to 20 participants\, so don’t miss your chance to secure your spot in this unique workshop!  \nSign up today! 
URL:https://foreststewardsguild.org/event/audubon-training-endorsement-workshop-for-vermont-foresters-2/
CATEGORIES:Northeast
END:VEVENT
BEGIN:VEVENT
DTSTART;TZID=America/New_York:20250827T150000
DTEND;TZID=America/New_York:20250827T160000
DTSTAMP:20260422T060857
CREATED:20250729T160102Z
LAST-MODIFIED:20250826T183919Z
UID:11155-1756306800-1756310400@foreststewardsguild.org
SUMMARY:Significant mortality of old trees across a dry forest landscape in Oregon
DESCRIPTION:Register \nAug 27\, 2025\nNoon – 1:00 p.m. PT / 1:00 – 2:00 p.m. MT / 2:00 – 3:00 p.m. CT / 3:00 – 4:00 p.m. ET \nContinuing education credits are pending approval. \nWebinar Presenter: Dr. James Johnston\, University of Oregon  \nDescription: Dr. Johnston will discuss recent forest mortality dynamics based on a network of 1617 trees in unlogged roadless areas in the Blue Mountains of eastern Oregon with precise age and growth data. There was extensive mortality of the oldest trees in stands—a quarter of trees greater than 300 years of age died over a ten-year period. There was little evidence for a difference in mortality between species in sites that experienced wildfire. Dr. Johnston will also describe a novel simulation model which demonstrated that succession of young trees is unlikely to replace recent losses of old trees. The confluence of a rare insect defoliator outbreak\, drought\, and past management decisions that increased competitive stress and fuel connectivity is the most likely explanation for the elevated mortality we observed. The protected areas where the team collected data are not achieving old tree conservation objectives. Active management to reduce forest competition is the most realistic pathway for old tree conservation in dry forests. 
URL:https://foreststewardsguild.org/event/significant-mortality-of-old-trees-across-a-dry-forest-landscape-in-oregon/
CATEGORIES:Intermountain West,Lake States,Northeast,Old Growth Forests,Pacific Northwest,Southeast,Southwest,Webinar
END:VEVENT
END:VCALENDAR