BEGIN:VCALENDAR
VERSION:2.0
PRODID:-//Forest Stewards Guild - ECPv6.11.0.1//NONSGML v1.0//EN
CALSCALE:GREGORIAN
METHOD:PUBLISH
X-ORIGINAL-URL:https://foreststewardsguild.org
X-WR-CALDESC:Events for Forest Stewards Guild
REFRESH-INTERVAL;VALUE=DURATION:PT1H
X-Robots-Tag:noindex
X-PUBLISHED-TTL:PT1H
BEGIN:VTIMEZONE
TZID:America/Denver
BEGIN:DAYLIGHT
TZOFFSETFROM:-0700
TZOFFSETTO:-0600
TZNAME:MDT
DTSTART:20240310T090000
END:DAYLIGHT
BEGIN:STANDARD
TZOFFSETFROM:-0600
TZOFFSETTO:-0700
TZNAME:MST
DTSTART:20241103T080000
END:STANDARD
END:VTIMEZONE
BEGIN:VEVENT
DTSTART;TZID=America/Denver:20240507T120000
DTEND;TZID=America/Denver:20240507T130000
DTSTAMP:20260423T110625
CREATED:20240411T190219Z
LAST-MODIFIED:20240411T190306Z
UID:9376-1715083200-1715086800@foreststewardsguild.org
SUMMARY:Bird Communities of the San Juan Mountains of Colorado: A Citizen Science Project
DESCRIPTION:Bluebird on a branch has caught an insect dinner \nRegister \nTuesday\, May 7\, 2024\n12:00 – 1:00 p.m. MT/1:00 – 2:00 p.m. CT \nThis webinar is one in a two-part series. See the full event flyer for details. \nOver the past 5 years\, community volunteers from the Weminuche Audubon Society have conducted a study of bird communities in Ponderosa Pine-dominated forested sites that received wildland fuels reduction treatments. This webinar from the Forest Stewards Guild dives into the effects of these treatments\, specifically prescribed fire or shrub-layer thinning\, on the composition of bird communities in the southern Rocky Mountains\, showing that tree canopy and shrub-layer composition and structure have important influences on the number of bird species present and the predominate feeding and nesting behaviors of the avian community.
URL:https://foreststewardsguild.org/event/bird-communities-of-the-san-juan-mountains-of-colorado-a-citizen-science-project/
CATEGORIES:Forestry for the Birds,Southwest,Webinar
END:VEVENT
END:VCALENDAR