BEGIN:VCALENDAR
VERSION:2.0
PRODID:-//Forest Stewards Guild - ECPv6.11.0.1//NONSGML v1.0//EN
CALSCALE:GREGORIAN
METHOD:PUBLISH
X-WR-CALNAME:Forest Stewards Guild
X-ORIGINAL-URL:https://foreststewardsguild.org
X-WR-CALDESC:Events for Forest Stewards Guild
REFRESH-INTERVAL;VALUE=DURATION:PT1H
X-Robots-Tag:noindex
X-PUBLISHED-TTL:PT1H
BEGIN:VTIMEZONE
TZID:America/New_York
BEGIN:DAYLIGHT
TZOFFSETFROM:-0500
TZOFFSETTO:-0400
TZNAME:EDT
DTSTART:20240310T070000
END:DAYLIGHT
BEGIN:STANDARD
TZOFFSETFROM:-0400
TZOFFSETTO:-0500
TZNAME:EST
DTSTART:20241103T060000
END:STANDARD
END:VTIMEZONE
BEGIN:VTIMEZONE
TZID:America/Chicago
BEGIN:DAYLIGHT
TZOFFSETFROM:-0600
TZOFFSETTO:-0500
TZNAME:CDT
DTSTART:20240310T080000
END:DAYLIGHT
BEGIN:STANDARD
TZOFFSETFROM:-0500
TZOFFSETTO:-0600
TZNAME:CST
DTSTART:20241103T070000
END:STANDARD
END:VTIMEZONE
BEGIN:VTIMEZONE
TZID:America/Denver
BEGIN:DAYLIGHT
TZOFFSETFROM:-0700
TZOFFSETTO:-0600
TZNAME:MDT
DTSTART:20240310T090000
END:DAYLIGHT
BEGIN:STANDARD
TZOFFSETFROM:-0600
TZOFFSETTO:-0700
TZNAME:MST
DTSTART:20241103T080000
END:STANDARD
END:VTIMEZONE
BEGIN:VEVENT
DTSTART;TZID=America/New_York:20240503T090000
DTEND;TZID=America/New_York:20240503T123000
DTSTAMP:20260423T075113
CREATED:20240318T160806Z
LAST-MODIFIED:20240327T201715Z
UID:9301-1714726800-1714739400@foreststewardsguild.org
SUMMARY:Bird-Friendly Forestry in West Virginia – Landowners Workshop
DESCRIPTION:Golden-winged Warbler male. Photo by Kyle Aldinger\, NRCS. \nRegister (no charge) \nMay 3\, 2024\n9:00 a.m. – 12:30 p.m.\nNear Beckley\, WV (exact location provided after registration) \nThis event is intended for private forest landowners. \nAccessibility: We will be walking on uneven ground in the woods. \nJoin the Forest Stewards Guild\, Aurora Sustainable Lands\, Appalachian Mountains Joint Venture\, West Virginia Department of Natural Resources\, Wildlands Network\, and West Virginia NRCS to learn about forestry for birds in West Virginia. \nWe will learn about: \n\nThe concepts of bird-friendly forestry\nHow to look at a forest through the eyes of a bird\nHow to find a forester\nBird identification tips and tricks\n\nParticipation gets you a hard copy of the newly published Bird Friendly Forest Management Silviculture Guide! \nAgenda:  \n8:30 am – Check In\n9:00 am – Welcome\n9:30 am – Walking Tour\n12:30 pm – Wrap Up \nContact Dakota AT forestguild.org with questions.
URL:https://foreststewardsguild.org/event/bird-friendly-forestry-in-west-virginia-landowners-workshop/
CATEGORIES:Field event,Forestry for the Birds,Southeast
END:VEVENT
BEGIN:VEVENT
DTSTART;TZID=America/Chicago:20240506T080000
DTEND;TZID=America/Chicago:20240515T170000
DTSTAMP:20260423T075113
CREATED:20240119T205515Z
LAST-MODIFIED:20240119T205516Z
UID:9116-1714982400-1715792400@foreststewardsguild.org
SUMMARY:Southern Michigan Prescribed Fire Training Exchange (TREX)
DESCRIPTION:Apply by end of the day January 30\, 2024 \nMay 6 – 15\, 2024\nFort Custer\, MI \nFull information can be found in the Training Announcement \nThis TREX will provide prescribed fire training opportunities to local and regional fire practitioners while supporting management of natural resources on state\, federal\, and private lands. \nTarget Group: Prescribed fire and wildfire personnel\, including Department of Defense\, National Guard\, federal\, state\, tribal\, and non-governmental agencies\, private practitioners and university faculty and students. \nRegistration Fee: The fee is $350 for non-DOD participants. DoD participants’ fees are paid for by the Michigan Army National Guard. The fee for university students is $100. Waivers may be available for participants who bring equipment (e.g. engines\, UTVs\, etc.). A limited number of scholarships may be available for participants.
URL:https://foreststewardsguild.org/event/southern-michigan-prescribed-fire-training-exchange-trex/
CATEGORIES:Field event,Lake States,TREX
END:VEVENT
BEGIN:VEVENT
DTSTART;TZID=America/Denver:20240511T103000
DTEND;TZID=America/Denver:20240511T123000
DTSTAMP:20260423T075113
CREATED:20240424T171627Z
LAST-MODIFIED:20240424T171627Z
UID:9449-1715423400-1715430600@foreststewardsguild.org
SUMMARY:Wildlife Field Day featuring Forestry for the Birds
DESCRIPTION:Register ($5) \nMay 11\, 2024\n8:30 a.m. – 12:30 p.m. Pacific Time \nHopkins Demonstration Forest\n16750 S Brockway Road\, Oregon City\, OR \nJoin OSU Extension and the Forest Stewards Guild for a discussion and forest tour featuring the Forest Stewards Guild’s Forestry for the Birds: Western Oregon Guide. The Guide was developed to assist woodland caretakers including landowners\, loggers\, foresters\, natural resource managers\, or practitioners\, to identify\, assess\, and support a healthy forest with birds in mind. We will review the guide while walking through various habitats and forest stages. Learn more about the birds within the Guide\, bird habitat preferences\, and forest structure and variability that make appealing habitat for different bird species. \nBring your stories\, curiosity\, and binoculars if you have them. We will have coffee and snacks for the early birds!
URL:https://foreststewardsguild.org/event/wildlife-field-day-featuring-forestry-for-the-birds/
CATEGORIES:Field event,Forestry for the Birds,Pacific Northwest
END:VEVENT
END:VCALENDAR